BEGIN:VCALENDAR
VERSION:2.0
PRODID:-//Afroblend Connectivity Platform Music Culture Sports - ECPv6.15.14//NONSGML v1.0//EN
CALSCALE:GREGORIAN
METHOD:PUBLISH
X-ORIGINAL-URL:https://afroblendonline.com
X-WR-CALDESC:Events for Afroblend Connectivity Platform Music Culture Sports
REFRESH-INTERVAL;VALUE=DURATION:PT1H
X-Robots-Tag:noindex
X-PUBLISHED-TTL:PT1H
BEGIN:VTIMEZONE
TZID:UTC
BEGIN:STANDARD
TZOFFSETFROM:+0000
TZOFFSETTO:+0000
TZNAME:UTC
DTSTART:20240101T000000
END:STANDARD
END:VTIMEZONE
BEGIN:VEVENT
DTSTART;TZID=UTC:20250703T190000
DTEND;TZID=UTC:20250704T020000
DTSTAMP:20260420T160543
CREATED:20250809T061038Z
LAST-MODIFIED:20250809T061953Z
UID:601-1751569200-1751594400@afroblendonline.com
SUMMARY:Meet and Greet Hosted by Afroblend
DESCRIPTION:Come join us for a fun-filled night of music\, dancing\, and mingling at the Dallas 3rd of July Rwandaful WeekendMeet and Greet by Afroblend!
URL:https://afroblendonline.com/events/meet-and-greet-hosted-by-afroblend/
LOCATION:Luxor Sports Bar & Grill Hurst\, Luxor Sports Bar & Grill Hurst\, 1113 W Pipeline Rd #129\, TX\, 1113\, United States
CATEGORIES:Afroblend Events
ATTACH;FMTTYPE=image/jpeg:https://afroblendonline.com/wp-content/uploads/2025/08/https___cdn.evbuc_.com_images_1055476593_2515848150431_1_original.jpeg
END:VEVENT
BEGIN:VEVENT
DTSTART;TZID=UTC:20250607T210000
DTEND;TZID=UTC:20250608T210000
DTSTAMP:20260420T160543
CREATED:20250809T063408Z
LAST-MODIFIED:20250809T063624Z
UID:606-1749330000-1749416400@afroblendonline.com
SUMMARY:Afroblend Appleton WI - African Music\, African Vibes Weekend - June 7th
DESCRIPTION:Come join us for a weekend filled with African music\, vibes\, and gratitude in Appleton\, WI – it’s gonna be lit!
URL:https://afroblendonline.com/events/afroblend-appleton-wi-african-music-african-vibes-weekend-june-7th/
LOCATION:The 10th Frame 618 West Wisconsin Avenue Appleton\, WI 54911\, Including Sports at YMCA\, The 10th Frame 618 West Wisconsin Avenue Appleton\, Appleton\, WI\, 54911\, United States
CATEGORIES:Appleton Community Annual events
ATTACH;FMTTYPE=image/jpeg:https://afroblendonline.com/wp-content/uploads/2025/08/https___cdn.evbuc_.com_images_955839763_2515848009451_1_original.jpeg
END:VEVENT
BEGIN:VEVENT
DTSTART;TZID=UTC:20250607T210000
DTEND;TZID=UTC:20250608T013000
DTSTAMP:20260420T160543
CREATED:20250809T063901Z
LAST-MODIFIED:20250809T063901Z
UID:612-1749330000-1749346200@afroblendonline.com
SUMMARY:Afroblend Appleton WI African Music\, African Vibes Event
DESCRIPTION:Come join us for a weekend filled with African music\, vibes\, and gratitude in Appleton\, WI – it’s gonna be lit!
URL:https://afroblendonline.com/events/afroblend-appleton-wi-african-music-african-vibes-event/
LOCATION:The 10th Frame 618 West Wisconsin Avenue Appleton\, WI 54911\, Including Sports at YMCA\, The 10th Frame 618 West Wisconsin Avenue Appleton\, Appleton\, WI\, 54911\, United States
CATEGORIES:Afroblend Events
ATTACH;FMTTYPE=image/jpeg:https://afroblendonline.com/wp-content/uploads/2025/08/https___cdn.evbuc_.com_images_905516093_2515848150431_1_original.jpeg
END:VEVENT
BEGIN:VEVENT
DTSTART;TZID=UTC:20250222T100000
DTEND;TZID=UTC:20250223T003000
DTSTAMP:20260420T160543
CREATED:20250809T064504Z
LAST-MODIFIED:20250809T064504Z
UID:615-1740218400-1740270600@afroblendonline.com
SUMMARY:Afroblend Appleton WI Talks-Ed Pro
DESCRIPTION:Event Note: Attended by Former Mayor of Appleton for the launch of Afroblend
URL:https://afroblendonline.com/events/afroblend-appleton-wi-talks-ed-pro/
LOCATION:Kimberly Public Library\, 515 W Kimberly Avenue\, Kimberly\, WI\, 54136\, United States
CATEGORIES:Afroblend Events
END:VEVENT
END:VCALENDAR