BEGIN:VCALENDAR
VERSION:2.0
PRODID:-//Afroblend Connectivity Platform Music Culture Sports - ECPv6.15.14//NONSGML v1.0//EN
CALSCALE:GREGORIAN
METHOD:PUBLISH
X-WR-CALNAME:Afroblend Connectivity Platform Music Culture Sports
X-ORIGINAL-URL:https://afroblendonline.com
X-WR-CALDESC:Events for Afroblend Connectivity Platform Music Culture Sports
REFRESH-INTERVAL;VALUE=DURATION:PT1H
X-Robots-Tag:noindex
X-PUBLISHED-TTL:PT1H
BEGIN:VTIMEZONE
TZID:UTC
BEGIN:STANDARD
TZOFFSETFROM:+0000
TZOFFSETTO:+0000
TZNAME:UTC
DTSTART:20240101T000000
END:STANDARD
END:VTIMEZONE
BEGIN:VEVENT
DTSTART;TZID=UTC:20251227T180000
DTEND;TZID=UTC:20251228T000000
DTSTAMP:20260420T151350
CREATED:20250127T180058Z
LAST-MODIFIED:20251004T205325Z
UID:1489-1766858400-1766880000@afroblendonline.com
SUMMARY:African Association of Madison - 2025 End of the Year GALA
DESCRIPTION:Africa Fest celebrates and shares African traditions and cultural heritages with the community. AFRICA FEST is a wonderful opportunity for the community to learn about African culture and traditions directly from the Africans who live here.\n\nOur Gratitude:The African Association of Madison (AAM)\, Inc. is very grateful to all its patrons\, sponsors and grantors for their support and are very hopeful that with their continued support\, the success of Africa Fest will continue.
URL:https://afroblendonline.com/events/african-association-of-madison-2025-end-of-the-year-gala/
LOCATION:Holiday Inn Hotels and Suite – Madison West\, 1109 Fourer Drive\, Madison\, WI\, 53717\, United States
CATEGORIES:Madison Community Annual Events
ATTACH;FMTTYPE=image/jpeg:https://afroblendonline.com/wp-content/uploads/2025/12/AAM_2025_Endoof_year_GalaWhatsApp-Image-2025-09-20-at-21.18.07_1423aedd.jpg
END:VEVENT
BEGIN:VEVENT
DTSTART;TZID=UTC:20250823T100000
DTEND;TZID=UTC:20250823T120000
DTSTAMP:20260420T151350
CREATED:20250813T044850Z
LAST-MODIFIED:20250819T023537Z
UID:1288-1755943200-1755950400@afroblendonline.com
SUMMARY:Afroblend Madison WI Sports and AfroMusic Event
DESCRIPTION:Join us for an exciting day for the Afroblend Debut in Madison Wisconsin filled with African\, Caribbean\, African American and everything Afro Music\, Culture that will start with a sporting event in the morning from 10am-12pm to burn calories at YMCA West\, followed with an evening classy evening event at a secret location from 5pm-8pm\, culminating with an after party at one of the affluent Madison Night Life Joint! Registration link will be coming soon\, sign up sheet will be available at the Madison Africa Fest Afroblend Information Table.
URL:https://afroblendonline.com/events/afroblend-madison-wi-sports-and-afromusic-event/
LOCATION:Madison YMCA Lussier Family West\, 5515 Medical Cir\, Madison\, WI\, 53719\, United States
CATEGORIES:Afroblend Events,Madison Community Annual Events
ATTACH;FMTTYPE=image/jpeg:https://afroblendonline.com/wp-content/uploads/2025/08/WhatsApp-Image-2025-08-15-at-15.29.58_847039d8-2.jpg
ORGANIZER;CN="afroblend":MAILTO:info@afroblendonline.com
END:VEVENT
BEGIN:VEVENT
DTSTART;TZID=UTC:20250816T100000
DTEND;TZID=UTC:20250816T220000
DTSTAMP:20260420T151350
CREATED:20250809T065217Z
LAST-MODIFIED:20250815T170856Z
UID:621-1755338400-1755381600@afroblendonline.com
SUMMARY:AFRICA FEST 2025 - MADISON WI
DESCRIPTION:Africa Fest celebrates and shares African traditions and cultural heritages with the community. AFRICA FEST is a wonderful opportunity for the community to learn about African culture and traditions directly from the Africans who live here.\n\nOur Gratitude:The African Association of Madison (AAM)\, Inc. is very grateful to all its patrons\, sponsors and grantors for their support and are very hopeful that with their continued support\, the success of Africa Fest will continue.
URL:https://afroblendonline.com/events/africa-fest-2025/
LOCATION:WI
CATEGORIES:Madison Community Annual Events
ATTACH;FMTTYPE=image/jpeg:https://afroblendonline.com/wp-content/uploads/2025/08/Africa-Fest-2025-Finiished-Flyer.jpg
END:VEVENT
END:VCALENDAR