BEGIN:VCALENDAR
VERSION:2.0
PRODID:-//Afroblend Connectivity Platform Music Culture Sports - ECPv6.15.14//NONSGML v1.0//EN
CALSCALE:GREGORIAN
METHOD:PUBLISH
X-WR-CALNAME:Afroblend Connectivity Platform Music Culture Sports
X-ORIGINAL-URL:https://afroblendonline.com
X-WR-CALDESC:Events for Afroblend Connectivity Platform Music Culture Sports
REFRESH-INTERVAL;VALUE=DURATION:PT1H
X-Robots-Tag:noindex
X-PUBLISHED-TTL:PT1H
BEGIN:VTIMEZONE
TZID:UTC
BEGIN:STANDARD
TZOFFSETFROM:+0000
TZOFFSETTO:+0000
TZNAME:UTC
DTSTART:20240101T000000
END:STANDARD
END:VTIMEZONE
BEGIN:VEVENT
DTSTART;TZID=UTC:20251129T210000
DTEND;TZID=UTC:20251129T210000
DTSTAMP:20260420T151212
CREATED:20250809T055755Z
LAST-MODIFIED:20251128T033539Z
UID:579-1764450000-1764450000@afroblendonline.com
SUMMARY:Afroblend Appleton WI Party - Sat Nov 29th
DESCRIPTION:Afroblend Appleton WI Party\, Saturday November 29th\, 9PM-01:30 AM Capitol Center\, 2025\, 725 W Capitol Dr\, Appleton\, WI 54914. Registration and Tickets can be found at the following link: https://tinyurl.com/afroblendappletonwi2025Nov29 \nBefore then there will be a side event at YMCA Downtown (Basketball & Voleyball\, from 2:00PM-4:00PM Address: 218 E Lawrence St\, Appleton\, WI 54911
URL:https://afroblendonline.com/events/afroblend-appleton-wi-party/
LOCATION:Capitol Center\, 725 W Capitol Dr\, Appleton\, WI\, 54914\, United States
CATEGORIES:Afroblend Events,Appleton Community Annual events
ATTACH;FMTTYPE=image/jpeg:https://afroblendonline.com/wp-content/uploads/2025/08/Afroblend_Appleton_251129_00_WhatsApp-Image-2025-11-23-at-00.04.14_d2444abf.jpg
END:VEVENT
BEGIN:VEVENT
DTSTART;TZID=UTC:20250809T080000
DTEND;TZID=UTC:20250809T170000
DTSTAMP:20260420T151212
CREATED:20250809T064846Z
LAST-MODIFIED:20250809T064846Z
UID:619-1754726400-1754758800@afroblendonline.com
SUMMARY:Back to School Celebration Program
DESCRIPTION:
URL:https://afroblendonline.com/events/back-to-school-celebration-program/
CATEGORIES:Appleton Community Annual events
END:VEVENT
BEGIN:VEVENT
DTSTART;TZID=UTC:20250607T210000
DTEND;TZID=UTC:20250608T210000
DTSTAMP:20260420T151212
CREATED:20250809T063408Z
LAST-MODIFIED:20250809T063624Z
UID:606-1749330000-1749416400@afroblendonline.com
SUMMARY:Afroblend Appleton WI - African Music\, African Vibes Weekend - June 7th
DESCRIPTION:Come join us for a weekend filled with African music\, vibes\, and gratitude in Appleton\, WI – it’s gonna be lit!
URL:https://afroblendonline.com/events/afroblend-appleton-wi-african-music-african-vibes-weekend-june-7th/
LOCATION:The 10th Frame 618 West Wisconsin Avenue Appleton\, WI 54911\, Including Sports at YMCA\, The 10th Frame 618 West Wisconsin Avenue Appleton\, Appleton\, WI\, 54911\, United States
CATEGORIES:Appleton Community Annual events
ATTACH;FMTTYPE=image/jpeg:https://afroblendonline.com/wp-content/uploads/2025/08/https___cdn.evbuc_.com_images_955839763_2515848009451_1_original.jpeg
END:VEVENT
END:VCALENDAR