BEGIN:VCALENDAR
VERSION:2.0
PRODID:-//Afroblend Connectivity Platform Music Culture Sports - ECPv6.15.14//NONSGML v1.0//EN
CALSCALE:GREGORIAN
METHOD:PUBLISH
X-WR-CALNAME:Afroblend Connectivity Platform Music Culture Sports
X-ORIGINAL-URL:https://afroblendonline.com
X-WR-CALDESC:Events for Afroblend Connectivity Platform Music Culture Sports
REFRESH-INTERVAL;VALUE=DURATION:PT1H
X-Robots-Tag:noindex
X-PUBLISHED-TTL:PT1H
BEGIN:VTIMEZONE
TZID:UTC
BEGIN:STANDARD
TZOFFSETFROM:+0000
TZOFFSETTO:+0000
TZNAME:UTC
DTSTART:20240101T000000
END:STANDARD
END:VTIMEZONE
BEGIN:VEVENT
DTSTART;TZID=UTC:20251205T173000
DTEND;TZID=UTC:20251205T200000
DTSTAMP:20260420T145359
CREATED:20250106T140005Z
LAST-MODIFIED:20251128T033826Z
UID:1485-1764955800-1764964800@afroblendonline.com
SUMMARY:Afroblend Milwaukee WI Sports and AfroMusic Event - Dec 5th 2025
DESCRIPTION:Join us for an exciting day for the Afroblend in Milwaukee Wisconsin filled with African\, Caribbean\, African American and everything Afro Music\, Culture that will start with a sporting event in the morning from 4:30pm-8pm at Kosciuszko Community Center  to burn calories\, followed with an evening classy evening event at the same location from 8pm-9:30pm! Registration link  can be found below: https://tinyurl.com/afroblendMilwaukeeWi2025dec05
URL:https://afroblendonline.com/events/afroblend-milwaukee-wi-sports-and-afromusic-event-dec-5th-2025/
LOCATION:Kosciuszko Community Center\, 2201 S 7th St #205\, \, WI\, Milwaukee\, WI\, 53215\, United States
CATEGORIES:Afroblend Events,Milwaukee Community Annual Events
ATTACH;FMTTYPE=image/png:https://afroblendonline.com/wp-content/uploads/2025/01/Milwaukee-WI-Dec-5th-Flyer.png
ORGANIZER;CN="afroblend":MAILTO:info@afroblendonline.com
END:VEVENT
END:VCALENDAR