BEGIN:VCALENDAR
VERSION:2.0
PRODID:-//Afroblend Connectivity Platform Music Culture Sports - ECPv6.15.14//NONSGML v1.0//EN
CALSCALE:GREGORIAN
METHOD:PUBLISH
X-WR-CALNAME:Afroblend Connectivity Platform Music Culture Sports
X-ORIGINAL-URL:https://afroblendonline.com
X-WR-CALDESC:Events for Afroblend Connectivity Platform Music Culture Sports
REFRESH-INTERVAL;VALUE=DURATION:PT1H
X-Robots-Tag:noindex
X-PUBLISHED-TTL:PT1H
BEGIN:VTIMEZONE
TZID:UTC
BEGIN:STANDARD
TZOFFSETFROM:+0000
TZOFFSETTO:+0000
TZNAME:UTC
DTSTART:20240101T000000
END:STANDARD
END:VTIMEZONE
BEGIN:VEVENT
DTSTART;TZID=UTC:20250809T080000
DTEND;TZID=UTC:20250809T170000
DTSTAMP:20260420T161023
CREATED:20250809T092148Z
LAST-MODIFIED:20250809T092149Z
UID:657-1754726400-1754758800@afroblendonline.com
SUMMARY:African Cultural Festival in Milwaukee
DESCRIPTION:
URL:https://afroblendonline.com/events/african-cultural-festival-in-milwaukee-2/
END:VEVENT
END:VCALENDAR